BEGIN:VCALENDAR
VERSION:2.0
PRODID:-//Folklorno društvo Gartrož - ECPv3.11.2//NONSGML v1.0//EN
CALSCALE:GREGORIAN
METHOD:PUBLISH
X-WR-CALNAME:Folklorno društvo Gartrož
X-ORIGINAL-URL:https://fdgartroz.com
X-WR-CALDESC:Events for Folklorno društvo Gartrož
BEGIN:VEVENT
DTSTART;VALUE=DATE:20191025
DTEND;VALUE=DATE:20191026
DTSTAMP:20260423T173741Z
CREATED:20190913T044818Z
LAST-MODIFIED:20190913T044910Z
UID:560-1572040800-1572127199@fdgartroz.com
SUMMARY:DRŽAVNO MAROLTOVO SREČANJE FOLKLORNIH SKUPIN 2019
DESCRIPTION:Skupine\, ki so se letos uvrstile na državno Maroltovo srečanje 2019 in ki bo potekalo v soboto\, 26. oktobra v Žalcu:\n\n- Mladinska Folklorna Skupina Mengeš\n- Folklorna skupina Podkev Folklorna skupina Podkev in Metla KTD Miklavž pri Ormožu\n- Akademska folklorna skupina France Marolt\n- Folklorna skupina Tine Rožanc\n- Akademska folklorna skupina Študent 1. skupina\n- Folklorna skupina Klas - Horjul\n- Folklorno društvo Gartrož Nova Gorica\n- Folklorna skupina KD Marko Beltinci\n- Folklorna skupina KD Podgorci\n- Folklorna skupina KUD Oton Župančič Artiče\n- Folklorna skupina Karel Štrekelj Komen\n- Folklorna skupina Leščeček KD Slavko Osterc Veržej
URL:https://fdgartroz.com/event/drzavno-maroltovo-srecanje-folklornih-skupin-2019/
CATEGORIES:Dogodki
END:VEVENT
END:VCALENDAR