BEGIN:VCALENDAR
VERSION:2.0
PRODID:-//Folklorno društvo Gartrož - ECPv3.11.2//NONSGML v1.0//EN
CALSCALE:GREGORIAN
METHOD:PUBLISH
X-WR-CALNAME:Folklorno društvo Gartrož
X-ORIGINAL-URL:https://fdgartroz.com
X-WR-CALDESC:Events for Folklorno društvo Gartrož
BEGIN:VEVENT
DTSTART:20191006T160000Z
DTEND:20191006T173000Z
DTSTAMP:20260423T173315Z
CREATED:20190912T200054Z
LAST-MODIFIED:20190912T200107Z
UID:558-1570377600-1570383000@fdgartroz.com
SUMMARY:UKRADLI SO MI MLADOST ponovitev predstave 06.10.2019
DESCRIPTION:\n\nSNG Nova Gorica\, 6.oktober 2019 ob 18.00 uri\nUKRADLI SO MI MLADOST\nglasbeno-plesna predstava\n\nSkupaj z gosti: \nGODALNIM KVARTETOM NOVA ter UPORABNIKI VDC Nova Gorica bomo postavljali tempelj delu\nzgodovine. Dotaknili se bomo koščka dogajanja\, o katerem neradi razmišljamo in govorimo\, pa vendar je še vedno pogosti spremljevalec življenja in dogajanja\, morda je vedno bolj zgovoren.\n\n\nPredstava je namenjena ljubezni\, volji\, složnosti\, seveda pa tudi delu življenja\, ki ga zaznamuje utrujenost\, bitka\, nemoč. Skozi pripoved\, plesne korake\, pesem ter instrumentalno glasbo\, vam\nželimo ponuditi roko prijateljstva.\nŽeleli bi ostati malce skrivnostni. Naj se presenečenje pričetega večera razkrije tekom našega odvitega in vašega ogledanega dela.\n\nKO PA BODO LJUDSTVA SPOZNALA\, KDO STE BILI\, BODO OD ŽALOSTI IN PEKOČE VESTI GRIZLA ZEMLJO.\nMOČILA JO BODO S SVOJIMI SOLZAMI IN VAM POSTAVLJALA TEMPLJE. / Vercors\n\nvstopnina 10 € (v prodaji pri članih FD Gartož tel. 040 454 180)\n\nodzivi na predstavo : http://www.revijaglasna.si/…/ukradli-so-mi-mladost-plesno…/…\n\n\n \n\n
URL:https://fdgartroz.com/event/ukradli-so-mi-mladost-ponovitev-predstave-06-10-2019/
CATEGORIES:Dogodki
ATTACH;FMTTYPE=image/jpeg:https://fdgartroz.com/wp-content/uploads/2019/09/DSC_0247-copy.jpg
END:VEVENT
END:VCALENDAR