BEGIN:VCALENDAR
VERSION:2.0
PRODID:-//Folklorno društvo Gartrož - ECPv3.11.2//NONSGML v1.0//EN
CALSCALE:GREGORIAN
METHOD:PUBLISH
X-WR-CALNAME:Folklorno društvo Gartrož
X-ORIGINAL-URL:https://fdgartroz.com
X-WR-CALDESC:Events for Folklorno društvo Gartrož
BEGIN:VEVENT
DTSTART:20190330T160000Z
DTEND:20190330T173000Z
DTSTAMP:20260424T035859Z
CREATED:20190309T201328Z
LAST-MODIFIED:20190315T231925Z
UID:537-1553961600-1553967000@fdgartroz.com
SUMMARY:UKRADLI SO MI MLADOST
DESCRIPTION:UKRADLI SO MI MLADOST\n\nSNG Nova Gorica\, 30.03.2019 ob 18:00
URL:https://fdgartroz.com/event/ukradli-so-mi-mladost/
CATEGORIES:Dogodki
ATTACH;FMTTYPE=image/png:https://fdgartroz.com/wp-content/uploads/2019/01/vabilo-30.-3.-2019-01-3.png
END:VEVENT
END:VCALENDAR