BEGIN:VCALENDAR
VERSION:2.0
PRODID:-//Folklorno društvo Gartrož - ECPv3.11.2//NONSGML v1.0//EN
CALSCALE:GREGORIAN
METHOD:PUBLISH
X-WR-CALNAME:Folklorno društvo Gartrož
X-ORIGINAL-URL:https://fdgartroz.com
X-WR-CALDESC:Events for Folklorno društvo Gartrož
BEGIN:VEVENT
DTSTART:20171125T160000Z
DTEND:20171125T180000Z
DTSTAMP:20260425T110609Z
CREATED:20171026T231541Z
LAST-MODIFIED:20171029T205259Z
UID:463-1511625600-1511632800@fdgartroz.com
SUMMARY:Videm Dobrepolje-Pevci nam pojejo\, godci pa godejo 2017
DESCRIPTION:Naši fantje so bili izbrani za nastop na državnem srečanju pevcev ljudskih pesmi in godcev ljudskih viž z nasovom Pevci nam pojejo\, godci pa godejo 2017.\n\nVidem Dobrepolje\, Jakličev dom v soboto\, 25.11.2017.
URL:https://fdgartroz.com/event/videm-dobrepolje-srecanje-ljudskih-pevcev/
CATEGORIES:Dogodki
END:VEVENT
END:VCALENDAR