BEGIN:VCALENDAR
VERSION:2.0
PRODID:-//Folklorno društvo Gartrož - ECPv3.11.2//NONSGML v1.0//EN
CALSCALE:GREGORIAN
METHOD:PUBLISH
X-WR-CALNAME:Folklorno društvo Gartrož
X-ORIGINAL-URL:https://fdgartroz.com
X-WR-CALDESC:Events for Folklorno društvo Gartrož
BEGIN:VEVENT
DTSTART:20171118T170000Z
DTEND:20171118T173000Z
DTSTAMP:20260425T110450Z
CREATED:20171026T230544Z
LAST-MODIFIED:20171026T230637Z
UID:462-1511024400-1511026200@fdgartroz.com
SUMMARY:Folklorna skupina Kamnik vabi na prireditev
DESCRIPTION:Folklorna skupina Kamnik vabi 18/11/2017 ob 19h na prireditev Ples in glasba izpod Kamniških planin\, na kateri bomo nastopili tudi mi.\n\n \n\n \n\n 
URL:https://fdgartroz.com/event/folklorna-skupina-kamnik-vabi-na-prireditev/
CATEGORIES:Dogodki
END:VEVENT
END:VCALENDAR