BEGIN:VCALENDAR
VERSION:2.0
PRODID:-//Folklorno društvo Gartrož - ECPv3.11.2//NONSGML v1.0//EN
CALSCALE:GREGORIAN
METHOD:PUBLISH
X-WR-CALNAME:Folklorno društvo Gartrož
X-ORIGINAL-URL:https://fdgartroz.com
X-WR-CALDESC:Events for Folklorno društvo Gartrož
BEGIN:VEVENT
DTSTART;VALUE=DATE:20170512
DTEND;VALUE=DATE:20170513
DTSTAMP:20260425T204437Z
CREATED:20170409T215231Z
LAST-MODIFIED:20170409T215231Z
UID:373-1494626400-1494712799@fdgartroz.com
SUMMARY:Regijsko srečanje odraslih folklornih skupin Ajdovščina.
DESCRIPTION:Regijsko srečanje odraslih folklornih skupin Ajdovščina.
URL:https://fdgartroz.com/event/regijsko-srecanje-odraslih-folklornih-skupin-ajdovscina/
CATEGORIES:Dogodki
END:VEVENT
END:VCALENDAR