BEGIN:VCALENDAR
VERSION:2.0
PRODID:-//Folklorno društvo Gartrož - ECPv3.11.2//NONSGML v1.0//EN
CALSCALE:GREGORIAN
METHOD:PUBLISH
X-WR-CALNAME:Folklorno društvo Gartrož
X-ORIGINAL-URL:https://fdgartroz.com
X-WR-CALDESC:Events for Folklorno društvo Gartrož
BEGIN:VEVENT
DTSTART;VALUE=DATE:20170506
DTEND;VALUE=DATE:20170507
DTSTAMP:20260425T204437Z
CREATED:20170409T214851Z
LAST-MODIFIED:20170409T214919Z
UID:371-1494108000-1494194399@fdgartroz.com
SUMMARY:VDC Stara gora
DESCRIPTION:Nastop z našimi prijatelji v VDC Stara Gora.
URL:https://fdgartroz.com/event/vdc-stara-gora/
CATEGORIES:Dogodki
END:VEVENT
END:VCALENDAR