BEGIN:VCALENDAR
VERSION:2.0
PRODID:-//Folklorno društvo Gartrož - ECPv3.11.2//NONSGML v1.0//EN
CALSCALE:GREGORIAN
METHOD:PUBLISH
X-WR-CALNAME:Folklorno društvo Gartrož
X-ORIGINAL-URL:https://fdgartroz.com
X-WR-CALDESC:Events for Folklorno društvo Gartrož
BEGIN:VEVENT
DTSTART:20170427T090000Z
DTEND:20170427T130000Z
DTSTAMP:20260425T222810Z
CREATED:20170409T214310Z
LAST-MODIFIED:20170409T214310Z
UID:369-1493283600-1493298000@fdgartroz.com
SUMMARY:Nastop v Predsedniški palači v Ljubljani.
DESCRIPTION:Ob državnem prazniku na dan upora proti okupatorju 27. aprila bomo sodelovali na dnevu odprtih vrat\, ko si ljudje lahko ogledajo prostore Predsedniške palače.\n\nTo je novost\, ki jo je uvedel predsednik republike Borut Pahor z željo\, da so vrata Predsedniške palače odprta in da je palača dostopna vsem ljudem.
URL:https://fdgartroz.com/event/nastop-v-predsedniski-palaci-v-ljubljani/
CATEGORIES:Dogodki
END:VEVENT
END:VCALENDAR