BEGIN:VCALENDAR
VERSION:2.0
PRODID:-//Folklorno društvo Gartrož - ECPv3.11.2//NONSGML v1.0//EN
CALSCALE:GREGORIAN
METHOD:PUBLISH
X-WR-CALNAME:Folklorno društvo Gartrož
X-ORIGINAL-URL:https://fdgartroz.com
X-WR-CALDESC:Events for Folklorno društvo Gartrož
BEGIN:VEVENT
DTSTART:20170417T160000Z
DTEND:20170417T180000Z
DTSTAMP:20260425T221819Z
CREATED:20170409T212811Z
LAST-MODIFIED:20170409T214546Z
UID:368-1492444800-1492452000@fdgartroz.com
SUMMARY:Tradicionalni velikonočni koncert v Vipavi
DESCRIPTION:Vabimo vas na tradicionalni velikonočni koncert v Vipavi\, ki bo na velikonočni ponedeljek\, 17. aprila 2017 ob 18. uri v Kulturnem domu v Vipavi\, kjer bomo nastopili kot gosti.
URL:https://fdgartroz.com/event/tradicionalni-velikonocni-koncert-vipava/
CATEGORIES:Dogodki
END:VEVENT
END:VCALENDAR