BEGIN:VCALENDAR
VERSION:2.0
PRODID:-//Folklorno društvo Gartrož - ECPv3.11.2//NONSGML v1.0//EN
CALSCALE:GREGORIAN
METHOD:PUBLISH
X-WR-CALNAME:Folklorno društvo Gartrož
X-ORIGINAL-URL:https://fdgartroz.com
X-WR-CALDESC:Events for Folklorno društvo Gartrož
BEGIN:VEVENT
DTSTART:20170121T150000Z
DTEND:20170121T193000Z
DTSTAMP:20260426T035020Z
CREATED:20161224T173753Z
LAST-MODIFIED:20170119T210921Z
UID:312-1485010800-1485027000@fdgartroz.com
SUMMARY:OŽIVELE SLIKE Velika dvorana Kulturnega doma Nova Gorica 21.01.2017\, ob 17:00 in 20:00  RAZPRODANO
DESCRIPTION:Obveščamo vas\, da sta ponovitvi predstave 21.1.2017 RAZPRODANI.\n\n\nČLANI FOLKLORNEGA DRUŠTVA GARTROŽ RAZGLAŠAMO:\nZa vse tiste\, ki niste bili deležni videti naše predstave - OŽIVELE SLIKE\, ali pa tiste\, ki ste izrazili željo\, da pridete ponovno\, pokorno javljamo\, da se ponovno vidimo\, v soboto\, 21.1.2017 ob 17h in 20h v KULTURNEM DOMU NOVA GORICA.\n\nZ veseljem bomo energijo\, svoje znanje in navdušenje delili z vami\, hkrati pa vas popeljali v različna obdobja preživelih dogodkov\, pripovedi\, ...\n\nObljubljamo vam\, da se boste\, bomo imeli lepo. V vas se bomo dotaknili čustvene plati\, vaša usta obrnili navzgor\, hkrati pa oči polakirali s solzami nostalgije\, sreče\, navdušenja ali\,...\n\nPredstavitev smo zavili v čudovit paket\, v katerem so poleg nas shranjeni tudi gostje:\nGPO NOVA GORICA in UPORABNIKI VDC.\n\nNaj vam pred snidenjem zaželimo:\nBLAGOSLOVLJEN BOŽIČ IN SREČNO 2017!\n\nGARTROŽCI\nVstopnina : 7 € v prodaji pri članih FD Gartož tel. 040 454 180 in uro pred začetkom predstave v Kulturnem domu Nova Gorica.
URL:https://fdgartroz.com/event/ozivele-slike-velika-dvorana-kulturnega-doma-nova-gorica-21-01-2017-ob-2000-druga-ponovitev-predstave/
CATEGORIES:Dogodki
END:VEVENT
END:VCALENDAR